BEGIN:VCALENDAR
VERSION:2.0
PRODID:-//Savor Shop Be Coral Springs - ECPv6.15.17.1//NONSGML v1.0//EN
CALSCALE:GREGORIAN
METHOD:PUBLISH
X-WR-CALNAME:Savor Shop Be Coral Springs
X-ORIGINAL-URL:https://savorshopbe.com
X-WR-CALDESC:Events for Savor Shop Be Coral Springs
REFRESH-INTERVAL;VALUE=DURATION:PT1H
X-Robots-Tag:noindex
X-PUBLISHED-TTL:PT1H
BEGIN:VTIMEZONE
TZID:America/New_York
BEGIN:DAYLIGHT
TZOFFSETFROM:-0500
TZOFFSETTO:-0400
TZNAME:EDT
DTSTART:20240310T070000
END:DAYLIGHT
BEGIN:STANDARD
TZOFFSETFROM:-0400
TZOFFSETTO:-0500
TZNAME:EST
DTSTART:20241103T060000
END:STANDARD
BEGIN:DAYLIGHT
TZOFFSETFROM:-0500
TZOFFSETTO:-0400
TZNAME:EDT
DTSTART:20250309T070000
END:DAYLIGHT
BEGIN:STANDARD
TZOFFSETFROM:-0400
TZOFFSETTO:-0500
TZNAME:EST
DTSTART:20251102T060000
END:STANDARD
BEGIN:DAYLIGHT
TZOFFSETFROM:-0500
TZOFFSETTO:-0400
TZNAME:EDT
DTSTART:20260308T070000
END:DAYLIGHT
BEGIN:STANDARD
TZOFFSETFROM:-0400
TZOFFSETTO:-0500
TZNAME:EST
DTSTART:20261101T060000
END:STANDARD
END:VTIMEZONE
BEGIN:VEVENT
DTSTART;TZID=America/New_York:20251211T160000
DTEND;TZID=America/New_York:20251211T190000
DTSTAMP:20260421T051644
CREATED:20251124T131916Z
LAST-MODIFIED:20251124T131916Z
UID:10000024-1765468800-1765479600@savorshopbe.com
SUMMARY:Cookies with Santa
DESCRIPTION:Santa is visiting Plaster Carousel on Thursday\, December 11 from 4PM-7PM!!!! \nThe event is FREE – snacks and drinks will be served. \nGet a chance to tell Santa what you want this year and snap a few pics. \n*** If you want to stay and paint (and we hope you do)\, regular prices apply. ***
URL:https://savorshopbe.com/event/cookies-with-santa/
LOCATION:Plaster Carousel Fun Painting Studio\, 9865 W Sample Road\, Coral Springs\, FL\, 33065\, United States
CATEGORIES:Local Business
ATTACH;FMTTYPE=image/jpeg:https://savorshopbe.com/wp-content/uploads/2025/11/Santa-1.jpeg
ORGANIZER;CN="Scott Gilman":MAILTO:scott@plastercarousel.com
END:VEVENT
BEGIN:VEVENT
DTSTART;TZID=America/New_York:20251030T180000
DTEND;TZID=America/New_York:20251030T200000
DTSTAMP:20260421T051644
CREATED:20251006T173335Z
LAST-MODIFIED:20251006T173335Z
UID:10000023-1761847200-1761854400@savorshopbe.com
SUMMARY:Free Family Trick or Treat Extravaganza
DESCRIPTION:Bring the whole family for a safe\, fun-filled night packed with: \n✨ Bounce House\n🎨 Face Painting\n🎈 Balloon Animals\n🥋 Free Martial Arts Lessons\n🔥 Live Martial Arts Demonstrations\n🎁 Free Giveaways (Game Night Baskets & Gift Certificates & more)\n🍬 Candy\n🛻 Food Truck (dinner for purchase) \nThis event is FREE and open to the entire community! Don’t miss out on an evening of treats\, activities\, and family fun. Costumes encouraged!
URL:https://savorshopbe.com/event/free-family-trick-or-treat-extravaganza/
LOCATION:USK Karate Coral Springs North\, 4394 N State Road 7\, Coral Springs\, 33073\, United States
CATEGORIES:Local Business
ATTACH;FMTTYPE=image/png:https://savorshopbe.com/wp-content/uploads/2025/10/USK-Trick-or-Treat-sponsor-flyer-10.30.25.png
ORGANIZER;CN="Jillian Alvas":MAILTO:jalvas@usk.ninja
END:VEVENT
END:VCALENDAR