BEGIN:VCALENDAR
VERSION:2.0
PRODID:-//Savor Shop Be Coral Springs - ECPv6.15.17.1//NONSGML v1.0//EN
CALSCALE:GREGORIAN
METHOD:PUBLISH
X-ORIGINAL-URL:https://savorshopbe.com
X-WR-CALDESC:Events for Savor Shop Be Coral Springs
REFRESH-INTERVAL;VALUE=DURATION:PT1H
X-Robots-Tag:noindex
X-PUBLISHED-TTL:PT1H
BEGIN:VTIMEZONE
TZID:America/New_York
BEGIN:DAYLIGHT
TZOFFSETFROM:-0500
TZOFFSETTO:-0400
TZNAME:EDT
DTSTART:20250309T070000
END:DAYLIGHT
BEGIN:STANDARD
TZOFFSETFROM:-0400
TZOFFSETTO:-0500
TZNAME:EST
DTSTART:20251102T060000
END:STANDARD
BEGIN:DAYLIGHT
TZOFFSETFROM:-0500
TZOFFSETTO:-0400
TZNAME:EDT
DTSTART:20260308T070000
END:DAYLIGHT
BEGIN:STANDARD
TZOFFSETFROM:-0400
TZOFFSETTO:-0500
TZNAME:EST
DTSTART:20261101T060000
END:STANDARD
BEGIN:DAYLIGHT
TZOFFSETFROM:-0500
TZOFFSETTO:-0400
TZNAME:EDT
DTSTART:20270314T070000
END:DAYLIGHT
BEGIN:STANDARD
TZOFFSETFROM:-0400
TZOFFSETTO:-0500
TZNAME:EST
DTSTART:20271107T060000
END:STANDARD
END:VTIMEZONE
BEGIN:VEVENT
DTSTART;TZID=America/New_York:20260204T180000
DTEND;TZID=America/New_York:20260204T200000
DTSTAMP:20260421T005821
CREATED:20260126T144557Z
LAST-MODIFIED:20260126T161457Z
UID:10000026-1770228000-1770235200@savorshopbe.com
SUMMARY:The Walk on Wednesdays Live Music Series: Beverly Lewis & the MiXX
DESCRIPTION:Beverly Lewis & the MiXX will be performing at The Walk on Wednesday\, February 4th from 6PM to 8PM.  \n“The Walk on Wednesdays” Live Music Series is back for the Winter/Spring season now through April 29\, 2026. Join The Walk at University at the courtyard at 2750 N University Drive (between BurgerFi and Kilwin’s Chocolate & Ice Cream) across from the large fountain for live music every Wednesday from 6PM to 8PM! \nThe Walk on Wednesday live music events are FREE and OPEN to the public. Free parking available in the east and west parking lots at the center. Guests are welcome to bring their own folding lawn chairs and set up in the courtyard! (Please do not block sidewalks nor set up chairs in the restaurant outdoor patios. Strollers and wheelchairs need ample space for access.) Events are weather permitting (according to forecasts) and subject to change or cancellation without notice. \nThere are lots of great restaurants and cafés at The Walk to grab a bite and a drink! We appreciate your support for local businesses. Kindly refrain from bringing outside food\, beverages and coolers. 
URL:https://savorshopbe.com/event/the-walk-on-wednesdays-live-music-series-beverly-lewis-the-mixx/
LOCATION:The Walk\, 2750 N University Drive\, Coral Springs\, FL\, 33065\, United States
CATEGORIES:Live Music
ATTACH;FMTTYPE=image/png:https://savorshopbe.com/wp-content/uploads/2026/01/The-Walk-Live-Music.png
ORGANIZER;CN="Gillian Johnson":MAILTO:gillian@ameracorporation.com
END:VEVENT
BEGIN:VEVENT
DTSTART;TZID=America/New_York:20260208T110000
DTEND;TZID=America/New_York:20260208T235900
DTSTAMP:20260421T005821
CREATED:20260202T183525Z
LAST-MODIFIED:20260202T183525Z
UID:10000039-1770548400-1770595140@savorshopbe.com
SUMMARY:Superbowl Sunday
DESCRIPTION:Join us for our Delicious Brunch Menu from 11AM to 4PM or dine with us after 5PM for Kid’s Night and the big game. Kids eat for just $1.99 from the $7.99 Kids Menu (1 kids meal per adult meal purchased). \nCheck out our Superbowl Party Platters and feed the whole team! 😊
URL:https://savorshopbe.com/event/superbowl-sunday/
LOCATION:Tijuana Taxi Co.\, 901 N University Drive\, Coral Springs\, 33071\, United States
CATEGORIES:Local Business,Sports
ATTACH;FMTTYPE=image/png:https://savorshopbe.com/wp-content/uploads/2026/02/Tjuana-Taxi-Co.-Superbowl-Menu.png
END:VEVENT
BEGIN:VEVENT
DTSTART;TZID=America/New_York:20260211T180000
DTEND;TZID=America/New_York:20260211T200000
DTSTAMP:20260421T005821
CREATED:20260126T161725Z
LAST-MODIFIED:20260126T161725Z
UID:10000027-1770832800-1770840000@savorshopbe.com
SUMMARY:The Walk on Wednesdays Live Music Series: The Ruminators
DESCRIPTION:The Ruminators will be performing at The Walk on Wednesday\, February 11th from 6PM to 8PM.  \n“The Walk on Wednesdays” Live Music Series is back for the Winter/Spring season now through April 29\, 2026. Join The Walk at University at the courtyard at 2750 N University Drive (between BurgerFi and Kilwin’s Chocolate & Ice Cream) across from the large fountain for live music every Wednesday from 6PM to 8PM! \nThe Walk on Wednesday live music events are FREE and OPEN to the public. Free parking available in the east and west parking lots at the center. Guests are welcome to bring their own folding lawn chairs and set up in the courtyard! (Please do not block sidewalks nor set up chairs in the restaurant outdoor patios. Strollers and wheelchairs need ample space for access.) Events are weather permitting (according to forecasts) and subject to change or cancellation without notice. \nThere are lots of great restaurants and cafés at The Walk to grab a bite and a drink! We appreciate your support for local businesses. Kindly refrain from bringing outside food\, beverages and coolers. 
URL:https://savorshopbe.com/event/the-walk-on-wednesdays-live-music-series-the-ruminators/
LOCATION:The Walk\, 2750 N University Drive\, Coral Springs\, FL\, 33065\, United States
CATEGORIES:Live Music
ATTACH;FMTTYPE=image/png:https://savorshopbe.com/wp-content/uploads/2026/01/The-Walk-Live-Music.png
ORGANIZER;CN="Gillian Johnson":MAILTO:gillian@ameracorporation.com
END:VEVENT
BEGIN:VEVENT
DTSTART;TZID=America/New_York:20260218T180000
DTEND;TZID=America/New_York:20260218T200000
DTSTAMP:20260421T005821
CREATED:20260126T162110Z
LAST-MODIFIED:20260126T162110Z
UID:10000028-1771437600-1771444800@savorshopbe.com
SUMMARY:The Walk on Wednesdays Live Music Series: The Horizons Trio
DESCRIPTION:The Horizons Trio will be performing at The Walk on Wednesday\, February 18th from 6PM to 8PM.  \n“The Walk on Wednesdays” Live Music Series is back for the Winter/Spring season now through April 29\, 2026. Join The Walk at University at the courtyard at 2750 N University Drive (between BurgerFi and Kilwin’s Chocolate & Ice Cream) across from the large fountain for live music every Wednesday from 6PM to 8PM! \nThe Walk on Wednesday live music events are FREE and OPEN to the public. Free parking available in the east and west parking lots at the center. Guests are welcome to bring their own folding lawn chairs and set up in the courtyard! (Please do not block sidewalks nor set up chairs in the restaurant outdoor patios. Strollers and wheelchairs need ample space for access.) Events are weather permitting (according to forecasts) and subject to change or cancellation without notice. \nThere are lots of great restaurants and cafés at The Walk to grab a bite and a drink! We appreciate your support for local businesses. Kindly refrain from bringing outside food\, beverages and coolers. 
URL:https://savorshopbe.com/event/the-walk-on-wednesdays-live-music-series-the-horizons-trio/
LOCATION:The Walk\, 2750 N University Drive\, Coral Springs\, FL\, 33065\, United States
CATEGORIES:Live Music
ATTACH;FMTTYPE=image/png:https://savorshopbe.com/wp-content/uploads/2026/01/The-Walk-Live-Music.png
ORGANIZER;CN="Gillian Johnson":MAILTO:gillian@ameracorporation.com
END:VEVENT
BEGIN:VEVENT
DTSTART;TZID=America/New_York:20260225T180000
DTEND;TZID=America/New_York:20260225T200000
DTSTAMP:20260421T005821
CREATED:20260126T162453Z
LAST-MODIFIED:20260126T183912Z
UID:10000029-1772042400-1772049600@savorshopbe.com
SUMMARY:The Walk on Wednesdays Live Music Series: Dr K and the CoPays
DESCRIPTION:Dr K and the CoPays will be performing at The Walk on Wednesday\, February 25th from 6PM to 8PM.  \n“The Walk on Wednesdays” Live Music Series is back for the Winter/Spring season now through April 29\, 2026. Join The Walk at University at the courtyard at 2750 N University Drive (between BurgerFi and Kilwin’s Chocolate & Ice Cream) across from the large fountain for live music every Wednesday from 6PM to 8PM! \nThe Walk on Wednesday live music events are FREE and OPEN to the public. Free parking available in the east and west parking lots at the center. Guests are welcome to bring their own folding lawn chairs and set up in the courtyard! (Please do not block sidewalks nor set up chairs in the restaurant outdoor patios. Strollers and wheelchairs need ample space for access.) Events are weather permitting (according to forecasts) and subject to change or cancellation without notice. \nThere are lots of great restaurants and cafés at The Walk to grab a bite and a drink! We appreciate your support for local businesses. Kindly refrain from bringing outside food\, beverages and coolers. 
URL:https://savorshopbe.com/event/the-walk-on-wednesdays-live-music-series-dr-k-and-the-copays-2/
LOCATION:The Walk\, 2750 N University Drive\, Coral Springs\, FL\, 33065\, United States
CATEGORIES:Live Music
ATTACH;FMTTYPE=image/png:https://savorshopbe.com/wp-content/uploads/2026/01/The-Walk-Live-Music.png
ORGANIZER;CN="Gillian Johnson":MAILTO:gillian@ameracorporation.com
END:VEVENT
END:VCALENDAR